BEGIN:VCALENDAR
VERSION:2.0
PRODID:-//Tukios.com/
BEGIN:VEVENT
UID:89cf8309-3a76-474c-86e2-dda4396b0706@www.mollfuneralhome.com
DTSTAMP:20260425T232750Z
DTSTART:20260428T210000Z
DTEND:20260429T000000Z
SUMMARY:Visitation
DESCRIPTION:
URL:https://www.mollfuneralhome.com/obituaries/keith-grodeon
LOCATION:Moll Funeral Home 34 W Main St  Mascoutah IL 62258
GEO:38.4900486;-89.7988472
END:VEVENT
END:VCALENDAR