BEGIN:VCALENDAR
VERSION:2.0
PRODID:-//Tukios.com/
BEGIN:VEVENT
UID:f5f20caa-e31a-42f7-aced-4f7daaae043e@www.mollfuneralhome.com
DTSTAMP:20260425T232255Z
DTSTART:20260429T160000Z
DTEND:20260429T170000Z
SUMMARY:Funeral Service
DESCRIPTION:
URL:https://www.mollfuneralhome.com/obituaries/keith-grodeon
LOCATION:St. John United Church of Christ 55 West Church Street  
	Mascoutah IL 62258
GEO:38.4913075;-89.8000467
END:VEVENT
END:VCALENDAR