BEGIN:VCALENDAR
VERSION:2.0
PRODID:-//Tukios.com/
BEGIN:VEVENT
UID:05a13d70-3948-4ce4-be41-9797aa1dcbcd@www.mollfuneralhome.com
DTSTAMP:20260425T232826Z
DTSTART:20260429
SUMMARY:Burial
DESCRIPTION:
URL:https://www.mollfuneralhome.com/obituaries/keith-grodeon
LOCATION: 331 North County Road  Mascoutah IL 62258
GEO:38.4992188;-89.819739
END:VEVENT
END:VCALENDAR